BEGIN:VCALENDAR
VERSION:2.0
PRODID:-//GAL Vasile Stroescu - ECPv6.5.1.6//NONSGML v1.0//EN
CALSCALE:GREGORIAN
METHOD:PUBLISH
X-WR-CALNAME:GAL Vasile Stroescu
X-ORIGINAL-URL:https://vasilestroescu.md/en/
X-WR-CALDESC:Events for GAL Vasile Stroescu
REFRESH-INTERVAL;VALUE=DURATION:PT1H
X-Robots-Tag:noindex
X-PUBLISHED-TTL:PT1H
BEGIN:VTIMEZONE
TZID:Europe/Chisinau
BEGIN:DAYLIGHT
TZOFFSETFROM:+0200
TZOFFSETTO:+0300
TZNAME:EEST
DTSTART:20250330T000000
END:DAYLIGHT
BEGIN:STANDARD
TZOFFSETFROM:+0300
TZOFFSETTO:+0200
TZNAME:EET
DTSTART:20251026T000000
END:STANDARD
END:VTIMEZONE
BEGIN:VEVENT
DTSTART;TZID=Europe/Chisinau:20250118T080000
DTEND;TZID=Europe/Chisinau:20250118T170000
DTSTAMP:20260422T182923
CREATED:20250118T124651Z
LAST-MODIFIED:20250118T124807Z
UID:10000008-1737187200-1737219600@vasilestroescu.md
SUMMARY:PRIMĂRIA COMUNEI BURLĂNEȘTI a implementat cu succes proiectul: ”Amenajarea terenului de sport  în aer liber în com. Burlănești\, realizată conform Strategiei de Dezvoltare Locală a Asociației GAL „Vasile Stroescu”.
DESCRIPTION:
URL:https://vasilestroescu.md/en/program/primaria-comunei-burlanesti-a-implementat-cu-succes-proiectul-amenajarea-terenului-de-sport-in-aer-liber-in-com-burlanesti-realizata-conform-strategiei-de-dezvoltare-locala-a-asociatiei-g/
CATEGORIES:Programe Active
END:VEVENT
END:VCALENDAR