BEGIN:VCALENDAR
VERSION:2.0
PRODID:-//GAL Vasile Stroescu - ECPv6.5.1.6//NONSGML v1.0//EN
CALSCALE:GREGORIAN
METHOD:PUBLISH
X-ORIGINAL-URL:https://vasilestroescu.md/en/
X-WR-CALDESC:Events for GAL Vasile Stroescu
REFRESH-INTERVAL;VALUE=DURATION:PT1H
X-Robots-Tag:noindex
X-PUBLISHED-TTL:PT1H
BEGIN:VTIMEZONE
TZID:Europe/Chisinau
BEGIN:DAYLIGHT
TZOFFSETFROM:+0200
TZOFFSETTO:+0300
TZNAME:EEST
DTSTART:20250330T000000
END:DAYLIGHT
BEGIN:STANDARD
TZOFFSETFROM:+0300
TZOFFSETTO:+0200
TZNAME:EET
DTSTART:20251026T000000
END:STANDARD
END:VTIMEZONE
BEGIN:VEVENT
DTSTART;TZID=Europe/Chisinau:20250410T080000
DTEND;TZID=Europe/Chisinau:20250410T170000
DTSTAMP:20260423T015134
CREATED:20241224T104852Z
LAST-MODIFIED:20250410T095033Z
UID:10000068-1744272000-1744304400@vasilestroescu.md
SUMMARY:PRIMĂRIA SATULUI VIIȘOARA a implementat cu succes proiectul: ”Energie verde durabilă\, convenabilă\, economică și ecologică pentru locuitorii s.Viișoara”!
DESCRIPTION:
URL:https://vasilestroescu.md/en/program/primaria-satului-viisoara-a-implementat-cu-succes-proiectul-energie-verde-durabila-convenabila-economica-si-ecologica-pentru-locuitorii-s-viisoara-2/
END:VEVENT
BEGIN:VEVENT
DTSTART;TZID=Europe/Chisinau:20250410T080000
DTEND;TZID=Europe/Chisinau:20250410T170000
DTSTAMP:20260423T015134
CREATED:20241226T103352Z
LAST-MODIFIED:20250410T093600Z
UID:10000065-1744272000-1744304400@vasilestroescu.md
SUMMARY:PRIMĂRIA COMUNEI BLEȘTENI a implementat cu succes proiectul: Modernizarea cantinei de ajutor social\, realizată conform Strategiei de Dezvoltare Locală a Asociației GAL „Vasile Stroescu”
DESCRIPTION:
URL:https://vasilestroescu.md/en/program/primaria-comunei-blesteni-a-implementat-cu-succes-proiectul-modernizarea-cantinei-de-ajutor-social-realizata-conform-strategiei-de-dezvoltare-locala-a-asociatiei-gal-vasile-stroescu-2/
END:VEVENT
BEGIN:VEVENT
DTSTART;TZID=Europe/Chisinau:20250410T080000
DTEND;TZID=Europe/Chisinau:20250410T170000
DTSTAMP:20260423T015134
CREATED:20241226T103842Z
LAST-MODIFIED:20250410T094054Z
UID:10000066-1744272000-1744304400@vasilestroescu.md
SUMMARY:PRIMĂRIA SATULUI BRÎNZENI a implementat cu succes proiectul: „Incursiuni în altarul vredniciei lui Vasile Stroescu: Istorie și Personalitate”\, realizată conform Strategiei de Dezvoltare Locală a Asociației GAL „Vasile Stroescu”.
DESCRIPTION:
URL:https://vasilestroescu.md/en/program/primaria-satului-brinzeni-a-implementat-cu-succes-proiectul-incursiuni-in-altarul-vredniciei-lui-vasile-stroescu-istorie-si-personalitate-realizata-conform-strategiei-de-dezvoltar-2/
END:VEVENT
BEGIN:VEVENT
DTSTART;TZID=Europe/Chisinau:20250410T080000
DTEND;TZID=Europe/Chisinau:20250410T170000
DTSTAMP:20260423T015134
CREATED:20241226T104546Z
LAST-MODIFIED:20250410T094847Z
UID:10000067-1744272000-1744304400@vasilestroescu.md
SUMMARY:Asociația Băștinașilor din Bleșteni-Volodeni a implementat cu succes proiectul: \,\, Amenajarea căii de acces la Grădinița \,\,Scufița Roșie” din satul Volodeni- Bleșteni". Acest proiect a fost realizat în conformitate cu Strategia de Dezvoltare Locală a Asociației GAL „Vasile Stroescu”\, contribuind astfel la îmbunătățirea infrastructurii educaționale din comunitate.
DESCRIPTION:
URL:https://vasilestroescu.md/en/program/asociatia-bastinasilor-din-blesteni-volodeni-a-implementat-cu-succes-proiectul-amenajarea-caii-de-acces-la-gradinita-scufita-rosie-din-satul-volodeni-blesteni-acest-proiect-a-fost-r-2/
END:VEVENT
BEGIN:VEVENT
DTSTART;TZID=Europe/Chisinau:20250410T080000
DTEND;TZID=Europe/Chisinau:20250410T170000
DTSTAMP:20260423T015134
CREATED:20241227T101747Z
LAST-MODIFIED:20250410T091942Z
UID:10000062-1744272000-1744304400@vasilestroescu.md
SUMMARY:S.R.L. OPTIMAL TIME a implementat cu succes proiectul: ”Dezvoltarea serviciilor de contabilitate în localitățile rurale” Realizat conform Strategiei de Dezvoltare Locală a Asociației GAL „Vasile Stroescu” 2024.
DESCRIPTION:
URL:https://vasilestroescu.md/en/program/s-r-l-optimal-time-a-implementat-cu-succes-proiectul-dezvoltarea-serviciilor-de-contabilitate-in-localitatile-rurale-realizat-conform-strategiei-de-dezvoltare-locala-a-asociatiei-g-2/
END:VEVENT
BEGIN:VEVENT
DTSTART;TZID=Europe/Chisinau:20250410T080000
DTEND;TZID=Europe/Chisinau:20250410T170000
DTSTAMP:20260423T015134
CREATED:20241227T102237Z
LAST-MODIFIED:20250410T092544Z
UID:10000063-1744272000-1744304400@vasilestroescu.md
SUMMARY:PRIMĂRIA SATULUI GORDINEȘTI a implementat cu succes proiectul:  ’’Extinderea și modernizarea Bibliotecii Publice Gordinești cu rafturi necesare păstrării documentelor și canapele pentru sala de lectură.’’ Realizată conform Strategiei de Dezvoltare Locală a Asociației GAL „Vasile Stroescu”.
DESCRIPTION:
URL:https://vasilestroescu.md/en/program/primaria-satului-gordinesti-a-implementat-cu-succes-proiectul-extinderea-si-modernizarea-bibliotecii-publice-gordinesti-cu-rafturi-necesare-pastrarii-documentelor-si-canapele-pentr-2/
END:VEVENT
BEGIN:VEVENT
DTSTART;TZID=Europe/Chisinau:20250410T080000
DTEND;TZID=Europe/Chisinau:20250410T170000
DTSTAMP:20260423T015134
CREATED:20241227T102702Z
LAST-MODIFIED:20250410T093029Z
UID:10000064-1744272000-1744304400@vasilestroescu.md
SUMMARY:Asociația Obștească „SPICUȘOR” a implementat cu succes proiectul: „Dotarea Centrului Cultural Gordinești cu sistem de sonorizare” \,  realizată conform Strategiei de Dezvoltare Locală a Asociației GAL „Vasile Stroescu”.
DESCRIPTION:
URL:https://vasilestroescu.md/en/program/asociatia-obsteasca-spicusor-a-implementat-cu-succes-proiectul-dotarea-centrului-cultural-gordinesti-cu-sistem-de-sonorizare-realizata-conform-strategiei-de-dez-2/
END:VEVENT
BEGIN:VEVENT
DTSTART;TZID=Europe/Chisinau:20250410T080000
DTEND;TZID=Europe/Chisinau:20250410T170000
DTSTAMP:20260423T015134
CREATED:20241230T093932Z
LAST-MODIFIED:20250410T091354Z
UID:10000059-1744272000-1744304400@vasilestroescu.md
SUMMARY:PRIMĂRIA SATULUI BĂDRAGII VECHI a implementat cu succes proiectul: ”Susținerea turismului rural în satul Bădragii Vechi"\, realizată conform Strategiei de Dezvoltare Locală a Asociației GAL „Vasile Stroescu”.
DESCRIPTION:
URL:https://vasilestroescu.md/en/program/primaria-satului-badragii-vechi-a-implementat-cu-succes-proiectul-sustinerea-turismului-rural-in-satul-badragii-vechi-realizata-conform-strategiei-de-dezvoltare-locala-a-asociatiei-gal-2/
END:VEVENT
BEGIN:VEVENT
DTSTART;TZID=Europe/Chisinau:20250410T080000
DTEND;TZID=Europe/Chisinau:20250410T170000
DTSTAMP:20260423T015134
CREATED:20241230T094507Z
LAST-MODIFIED:20250410T091302Z
UID:10000060-1744272000-1744304400@vasilestroescu.md
SUMMARY:A.O. SĂTUCUL DINTRE STÂNCI a implementat cu succes proiectul: „Dotarea Centrului Cultural Buzdugeni cu aparataj de sonorizare” implementat în parteneriat cu APL Burlănești.
DESCRIPTION:
URL:https://vasilestroescu.md/en/program/a-o-satucul-dintre-stanci-a-implementat-cu-succes-proiectul-dotarea-centrului-cultural-buzdugeni-cu-aparataj-de-sonorizare-implementat-in-parteneriat-cu-apl-burlanesti/
END:VEVENT
BEGIN:VEVENT
DTSTART;TZID=Europe/Chisinau:20250410T080000
DTEND;TZID=Europe/Chisinau:20250410T170000
DTSTAMP:20260423T015134
CREATED:20241230T100707Z
LAST-MODIFIED:20250410T091039Z
UID:10000061-1744272000-1744304400@vasilestroescu.md
SUMMARY:Primăria satului Lopatnic a implementat cu succes proiectul „Îmbunătățirea accesului la servicii calitative de dezvoltare timpurie a copilului”\, realizat conform Strategiei de Dezvoltare Locală a Asociației GAL „Vasile Stroescu”.
DESCRIPTION:
URL:https://vasilestroescu.md/en/program/primaria-satului-lopatnic-a-implementat-cu-succes-proiectul-imbunatatirea-accesului-la-servicii-calitative-de-dezvoltare-timpurie-a-copilului-realizat-conform-strategiei-de-dezvolta-2/
END:VEVENT
BEGIN:VEVENT
DTSTART;TZID=Europe/Chisinau:20250410T080000
DTEND;TZID=Europe/Chisinau:20250410T170000
DTSTAMP:20260423T015134
CREATED:20241231T093442Z
LAST-MODIFIED:20250410T094152Z
UID:10000058-1744272000-1744304400@vasilestroescu.md
SUMMARY:PRIMĂRIA COMUNEI BURLĂNEȘTI a implementat cu succes proiectul: ”Amenajarea terenului de sport  în aer liber în com. Burlănești\, realizată conform Strategiei de Dezvoltare Locală a Asociației GAL „Vasile Stroescu”.
DESCRIPTION:
URL:https://vasilestroescu.md/en/program/primaria-comunei-burlanesti-a-implementat-cu-succes-proiectul-amenajarea-terenului-de-sport-in-aer-liber-in-com-burlanesti-realizata-conform-strategiei-de-dezvoltare-locala-a-asociatiei-g-3/
CATEGORIES:Programe Active
END:VEVENT
BEGIN:VEVENT
DTSTART;TZID=Europe/Chisinau:20250416T080000
DTEND;TZID=Europe/Chisinau:20250416T170000
DTSTAMP:20260423T015134
CREATED:20250328T164637Z
LAST-MODIFIED:20250416T084825Z
UID:10000069-1744790400-1744822800@vasilestroescu.md
SUMMARY:https://www.facebook.com/share/v/16dNMwNiqR/
DESCRIPTION:
URL:https://vasilestroescu.md/en/program/https-www-facebook-com-share-v-16dnmwniqr/
CATEGORIES:Programe Active
END:VEVENT
BEGIN:VEVENT
DTSTART;TZID=Europe/Chisinau:20250416T080000
DTEND;TZID=Europe/Chisinau:20250416T170000
DTSTAMP:20260423T015134
CREATED:20250328T174946Z
LAST-MODIFIED:20250416T085104Z
UID:10000070-1744790400-1744822800@vasilestroescu.md
SUMMARY:👉Depunerea actelor în cadrul Apelului Nr 1/ 2025 Program LEADER a luat sfârșit. 📥Au fost recepționate 32 aplicații ! Mulțumim tuturor aplicanților pentru interesul manifestat.
DESCRIPTION:
URL:https://vasilestroescu.md/en/program/%f0%9f%91%89depunerea-actelor-in-cadrul-apelului-nr-1-2025-program-leader-a-luat-sfarsit-%f0%9f%93%a5au-fost-receptionate-32-aplicatii-multumim-tuturor-aplicantilor-pentru-interesul-manifestat/
END:VEVENT
BEGIN:VEVENT
DTSTART;TZID=Europe/Chisinau:20250511T080000
DTEND;TZID=Europe/Chisinau:20250511T170000
DTSTAMP:20260423T015134
CREATED:20250510T151512Z
LAST-MODIFIED:20250511T191754Z
UID:10000071-1746950400-1746982800@vasilestroescu.md
SUMMARY:✨ Astăzi\, GAL „Vasile Stroescu” a fost alături de producătorii locali la evenimentul expozițional „Produs de Edineț – #Tradiție\, #Gust și #Inovație”! 💬 Un eveniment deosebit care a pus în valoare autenticitatea\, creativitatea și munca oamenilor harnici din regiunea noastră. 👏 Mulțumim Filialei Edineț a Camerei de Comerț și Industrie a RM și Primăriei Municipiului Edineț pentru această frumoasă inițiativă care susține și promovează producătorii locali! #GALVasileStroescu #ProdusDeEdineț #SusținemLocalul #Autentic #DeLaNoiPentruToți
DESCRIPTION:
URL:https://vasilestroescu.md/en/program/%e2%9c%a8-astazi-gal-vasile-stroescu-a-fost-alaturi-de-producatorii-locali-la-evenimentul-expozitional-produs-de-edinet-traditie-gust-si-inovatie/
CATEGORIES:Programe Active
END:VEVENT
END:VCALENDAR