BEGIN:VCALENDAR
VERSION:2.0
PRODID:-//GAL Vasile Stroescu - ECPv6.5.1.6//NONSGML v1.0//EN
CALSCALE:GREGORIAN
METHOD:PUBLISH
X-ORIGINAL-URL:https://vasilestroescu.md/en/
X-WR-CALDESC:Events for GAL Vasile Stroescu
REFRESH-INTERVAL;VALUE=DURATION:PT1H
X-Robots-Tag:noindex
X-PUBLISHED-TTL:PT1H
BEGIN:VTIMEZONE
TZID:Europe/Chisinau
BEGIN:DAYLIGHT
TZOFFSETFROM:+0200
TZOFFSETTO:+0300
TZNAME:EEST
DTSTART:20250330T000000
END:DAYLIGHT
BEGIN:STANDARD
TZOFFSETFROM:+0300
TZOFFSETTO:+0200
TZNAME:EET
DTSTART:20251026T000000
END:STANDARD
END:VTIMEZONE
BEGIN:VEVENT
DTSTART;TZID=Europe/Chisinau:20250416T080000
DTEND;TZID=Europe/Chisinau:20250416T170000
DTSTAMP:20260423T005823
CREATED:20250328T174946Z
LAST-MODIFIED:20250416T085104Z
UID:10000070-1744790400-1744822800@vasilestroescu.md
SUMMARY:👉Depunerea actelor în cadrul Apelului Nr 1/ 2025 Program LEADER a luat sfârșit. 📥Au fost recepționate 32 aplicații ! Mulțumim tuturor aplicanților pentru interesul manifestat.
DESCRIPTION:
URL:https://vasilestroescu.md/en/program/%f0%9f%91%89depunerea-actelor-in-cadrul-apelului-nr-1-2025-program-leader-a-luat-sfarsit-%f0%9f%93%a5au-fost-receptionate-32-aplicatii-multumim-tuturor-aplicantilor-pentru-interesul-manifestat/
END:VEVENT
BEGIN:VEVENT
DTSTART;TZID=Europe/Chisinau:20250511T080000
DTEND;TZID=Europe/Chisinau:20250511T170000
DTSTAMP:20260423T005823
CREATED:20250510T151512Z
LAST-MODIFIED:20250511T191754Z
UID:10000071-1746950400-1746982800@vasilestroescu.md
SUMMARY:✨ Astăzi\, GAL „Vasile Stroescu” a fost alături de producătorii locali la evenimentul expozițional „Produs de Edineț – #Tradiție\, #Gust și #Inovație”! 💬 Un eveniment deosebit care a pus în valoare autenticitatea\, creativitatea și munca oamenilor harnici din regiunea noastră. 👏 Mulțumim Filialei Edineț a Camerei de Comerț și Industrie a RM și Primăriei Municipiului Edineț pentru această frumoasă inițiativă care susține și promovează producătorii locali! #GALVasileStroescu #ProdusDeEdineț #SusținemLocalul #Autentic #DeLaNoiPentruToți
DESCRIPTION:
URL:https://vasilestroescu.md/en/program/%e2%9c%a8-astazi-gal-vasile-stroescu-a-fost-alaturi-de-producatorii-locali-la-evenimentul-expozitional-produs-de-edinet-traditie-gust-si-inovatie/
CATEGORIES:Programe Active
END:VEVENT
END:VCALENDAR