BEGIN:VCALENDAR
VERSION:2.0
PRODID:-//GAL Vasile Stroescu - ECPv6.5.1.6//NONSGML v1.0//EN
CALSCALE:GREGORIAN
METHOD:PUBLISH
X-ORIGINAL-URL:https://vasilestroescu.md
X-WR-CALDESC:Events for GAL Vasile Stroescu
REFRESH-INTERVAL;VALUE=DURATION:PT1H
X-Robots-Tag:noindex
X-PUBLISHED-TTL:PT1H
BEGIN:VTIMEZONE
TZID:Europe/Chisinau
BEGIN:DAYLIGHT
TZOFFSETFROM:+0200
TZOFFSETTO:+0300
TZNAME:EEST
DTSTART:20240331T000000
END:DAYLIGHT
BEGIN:STANDARD
TZOFFSETFROM:+0300
TZOFFSETTO:+0200
TZNAME:EET
DTSTART:20241027T000000
END:STANDARD
BEGIN:DAYLIGHT
TZOFFSETFROM:+0200
TZOFFSETTO:+0300
TZNAME:EEST
DTSTART:20250330T000000
END:DAYLIGHT
BEGIN:STANDARD
TZOFFSETFROM:+0300
TZOFFSETTO:+0200
TZNAME:EET
DTSTART:20251026T000000
END:STANDARD
END:VTIMEZONE
BEGIN:VEVENT
DTSTART;VALUE=DATE:20240319
DTEND;VALUE=DATE:20240320
DTSTAMP:20260423T014836
CREATED:20240319T074328Z
LAST-MODIFIED:20240725T131246Z
UID:10000002-1710806400-1710892799@vasilestroescu.md
SUMMARY:SRL\,\,Miros de lavandă " a beneficiat de un grant în valoare de 6500 euro pentru procurarea utilajului de recoltare a levănțicăi ! Contribuţia proprie : 7500 euro
DESCRIPTION:
URL:https://vasilestroescu.md/program/srlmiros-de-lavanda-a-beneficiat-de-un-grant-in-valoare-de-6500-euro-pentru-procurarea-utilajului-de-recoltare-a-levanticai-contributia-proprie-7500-euro/
CATEGORIES:Arhivă programe
ATTACH;FMTTYPE=image/jpeg:https://vasilestroescu.md/wp-content/uploads/2024/03/miros-de-lavanda.jpg
END:VEVENT
BEGIN:VEVENT
DTSTART;TZID=Europe/Chisinau:20240319T080000
DTEND;TZID=Europe/Chisinau:20240319T080000
DTSTAMP:20260423T014836
CREATED:20240319T075734Z
LAST-MODIFIED:20240725T131214Z
UID:10000005-1710835200-1710835200@vasilestroescu.md
SUMMARY:Îl\,\,Silvia Traistă "\, din satul Fetești\, a beneficiat de un grant în valoare de 24 000 lei\, pentru înfiinţarea unei plantaţii de plante medicinale şi procurarea utilajului agricol pentru întreţinerea plantaţiei. Contribuţia proprie : 20 099 lei
DESCRIPTION:
URL:https://vasilestroescu.md/program/ilsilvia-traista-din-satul-fetesti-a-beneficiat-de-un-grant-in-valoare-de-24-000-lei-pentru-infiintarea-unei-plantatii-de-plante-medicinale-si-procurarea-utilajului-agricol-pentru-intretinerea/
CATEGORIES:Programe Active
ATTACH;FMTTYPE=image/jpeg:https://vasilestroescu.md/wp-content/uploads/2024/03/plante-medicinale.jpg
END:VEVENT
BEGIN:VEVENT
DTSTART;TZID=Europe/Chisinau:20240319T080000
DTEND;TZID=Europe/Chisinau:20240319T170000
DTSTAMP:20260423T014836
CREATED:20240319T075641Z
LAST-MODIFIED:20240725T131144Z
UID:10000004-1710835200-1710867600@vasilestroescu.md
SUMMARY:GT Scerbatiuc Viorel\, din satul Trinca a beneficiat de un grant în valoare de 24 000 lei\, pentru înfiinţarea unei plantații de levănțică. Contribuţia proprie : 20 000 lei
DESCRIPTION:
URL:https://vasilestroescu.md/program/gt-scerbatiuc-viorel-din-satul-trinca-a-beneficiat-de-un-grant-in-valoare-de-24-000-lei-pentru-infiintarea-unei-plantatii-de-levantica-contributia-proprie-20-000-lei/
CATEGORIES:Arhivă programe
ATTACH;FMTTYPE=image/jpeg:https://vasilestroescu.md/wp-content/uploads/2024/03/levanttica.jpg
END:VEVENT
BEGIN:VEVENT
DTSTART;TZID=Europe/Chisinau:20240319T080000
DTEND;TZID=Europe/Chisinau:20241115T170000
DTSTAMP:20260423T014836
CREATED:20240319T075153Z
LAST-MODIFIED:20240725T131045Z
UID:10000003-1710835200-1731690000@vasilestroescu.md
SUMMARY:GT Balamutovschi Tatiana\, din satul Burlăneşti\, a beneficiat de un grant în valoare de 24 000 lei\, pentru înființarea unei plantații de levǎnțică. Contribuţia proprie: 25 200 lei
DESCRIPTION:
URL:https://vasilestroescu.md/program/gt-balamutovschi-tatiana-din-satul-burlanesti-a-beneficiat-de-un-grant-in-valoare-de-24-000-lei-pentru-infiintarea-unei-plantatii-de-levaantica-contributia-proprie-25-200-lei/
CATEGORIES:Programe Active
ATTACH;FMTTYPE=image/jpeg:https://vasilestroescu.md/wp-content/uploads/2024/03/plantaii-levantica.jpg
END:VEVENT
BEGIN:VEVENT
DTSTART;TZID=Europe/Chisinau:20240319T080000
DTEND;TZID=Europe/Chisinau:20241229T170000
DTSTAMP:20260423T014836
CREATED:20240319T081403Z
LAST-MODIFIED:20240725T131329Z
UID:10000006-1710835200-1735491600@vasilestroescu.md
SUMMARY:GT Gasco Lilia\, din satul Burlăneşti\, a beneficiat de un grant în valoare de 24 000 lei\, pentru înfiinţarea unei plantații de levănțică. Contribuția proprie: 20 000 lei
DESCRIPTION:
URL:https://vasilestroescu.md/program/gt-gasco-lilia-din-satul-burlanesti-a-beneficiat-de-un-grant-in-valoare-de-24-000-lei-pentru-infiintarea-unei-plantatii-de-levantica-contributia-proprie-20-000-lei/
CATEGORIES:Programe Active
ATTACH;FMTTYPE=image/jpeg:https://vasilestroescu.md/wp-content/uploads/2024/03/levantica-burlanesti.jpg
END:VEVENT
BEGIN:VEVENT
DTSTART;TZID=Europe/Chisinau:20241030T080000
DTEND;TZID=Europe/Chisinau:20241229T170000
DTSTAMP:20260423T014836
CREATED:20241030T102358Z
LAST-MODIFIED:20241030T102837Z
UID:10000007-1730275200-1735491600@vasilestroescu.md
SUMMARY:Event nou
DESCRIPTION:Asociația Grupul de Acțiune Locală „Vasile Stroescu” implementează proiectul „Centru de Consultanță în Afaceri” în cadrul programului „EU4Moldova: Comunități Locale”\, finanțat de Uniunea Europeană\, Ministerul Federal German pentru Cooperare Economică şi Dezvoltare (BMZ)\, Cooperarea Austriacă pentru Dezvoltare (ADC) și Ministerul Afacerilor Externe al Republicii Polone – Asistența Poloniei; și implementat de Agenția de Cooperare Internațională a Germaniei (GIZ)\, Agenția Austriacă pentru Dezvoltare (ADA) și Solidarity Fund PL (SFPL) în Moldova. \nScopul acestui proiect este de a susține și îmbunătăți climatului economic în GAL “Vasile Stroescu” prin crearea condițiilor optime pentru dezvoltarea mediului de afaceri ca un cadru pentru deschiderea locurilor de muncă\, stoparea migrației\, dezvoltarea afacerilor și produselor locale\, precum și generarea de venituri de către populația locală\, inclusiv a păturilor defavorizate. \nÎn cadrul proiectului\, va fi contractat 1 expert în dezvoltarea economică a localităților\, rezident al teritoriului GAL ”Vasile Stroescu”\, misiunea căruia va fi de a presta servicii de instruire\, consultanță și mentorat în domeniul atragerii de investiții și fonduri unui grup țintă format din 50.
URL:https://vasilestroescu.md/program/event-nou/
CATEGORIES:Programe Active
ATTACH;FMTTYPE=image/jpeg:https://vasilestroescu.md/wp-content/uploads/2024/04/275a6903.jpg
END:VEVENT
BEGIN:VEVENT
DTSTART;TZID=Europe/Chisinau:20250118T080000
DTEND;TZID=Europe/Chisinau:20250118T170000
DTSTAMP:20260423T014836
CREATED:20250118T124651Z
LAST-MODIFIED:20250118T124807Z
UID:10000008-1737187200-1737219600@vasilestroescu.md
SUMMARY:PRIMĂRIA COMUNEI BURLĂNEȘTI a implementat cu succes proiectul: ”Amenajarea terenului de sport  în aer liber în com. Burlănești\, realizată conform Strategiei de Dezvoltare Locală a Asociației GAL „Vasile Stroescu”.
DESCRIPTION:
URL:https://vasilestroescu.md/program/primaria-comunei-burlanesti-a-implementat-cu-succes-proiectul-amenajarea-terenului-de-sport-in-aer-liber-in-com-burlanesti-realizata-conform-strategiei-de-dezvoltare-locala-a-asociatiei-g/
CATEGORIES:Programe Active
END:VEVENT
BEGIN:VEVENT
DTSTART;TZID=Europe/Chisinau:20250201T080000
DTEND;TZID=Europe/Chisinau:20250201T170000
DTSTAMP:20260423T014836
CREATED:20250201T132311Z
LAST-MODIFIED:20250201T132311Z
UID:10000009-1738396800-1738429200@vasilestroescu.md
SUMMARY:PRIMĂRIA COMUNEI BURLĂNEȘTI a implementat cu succes proiectul: ”Amenajarea terenului de sport  în aer liber în com. Burlănești\, realizată conform Strategiei de Dezvoltare Locală a Asociației GAL „Vasile Stroescu”.
DESCRIPTION:
URL:https://vasilestroescu.md/program/primaria-comunei-burlanesti-a-implementat-cu-succes-proiectul-amenajarea-terenului-de-sport-in-aer-liber-in-com-burlanesti-realizata-conform-strategiei-de-dezvoltare-locala-a-asociatiei-g-2/
CATEGORIES:Programe Active
ATTACH;FMTTYPE=image/jpeg:https://vasilestroescu.md/wp-content/uploads/2025/01/472211191_655701270114489_6204353043582283685_n-1.jpg
END:VEVENT
BEGIN:VEVENT
DTSTART;TZID=Europe/Chisinau:20250201T080000
DTEND;TZID=Europe/Chisinau:20250201T170000
DTSTAMP:20260423T014836
CREATED:20250201T132525Z
LAST-MODIFIED:20250201T132525Z
UID:10000010-1738396800-1738429200@vasilestroescu.md
SUMMARY:PRIMĂRIA SATULUI BĂDRAGII VECHI a implementat cu succes proiectul: ”Susținerea turismului rural în satul Bădragii Vechi"\, realizată conform Strategiei de Dezvoltare Locală a Asociației GAL „Vasile Stroescu”.
DESCRIPTION:
URL:https://vasilestroescu.md/program/primaria-satului-badragii-vechi-a-implementat-cu-succes-proiectul-sustinerea-turismului-rural-in-satul-badragii-vechi-realizata-conform-strategiei-de-dezvoltare-locala-a-asociatiei-gal/
CATEGORIES:Programe Active
END:VEVENT
BEGIN:VEVENT
DTSTART;TZID=Europe/Chisinau:20250201T080000
DTEND;TZID=Europe/Chisinau:20250201T170000
DTSTAMP:20260423T014836
CREATED:20250201T132943Z
LAST-MODIFIED:20250203T111849Z
UID:10000011-1738396800-1738429200@vasilestroescu.md
SUMMARY:A.O. SĂTUCUL DINTRE STÂNCI a implementat cu succes proiectul: „Dotarea Centrului Cultural Buzdugeni cu aparataj de sonorizare” implementat în parteneriat cu APL Burlănești.
DESCRIPTION:
URL:https://vasilestroescu.md/program/1894/
CATEGORIES:Programe Active
END:VEVENT
BEGIN:VEVENT
DTSTART;TZID=Europe/Chisinau:20250203T080000
DTEND;TZID=Europe/Chisinau:20250203T170000
DTSTAMP:20260423T014836
CREATED:20250203T100822Z
LAST-MODIFIED:20250203T100822Z
UID:10000012-1738569600-1738602000@vasilestroescu.md
SUMMARY:Pentru a beneficia de consultanță în domeniul completării unei cereri de finanțare pentru dezvoltarea afacerii tale\, te invităm să apelezi echipa de management GAL \,\,Vasile Stroescu” la numerele de telefon - 068614347\, 068432281 sau să soliciți o consultanță la adresa de email - galvasilestroescu@gmail.com
DESCRIPTION:
URL:https://vasilestroescu.md/program/pentru-a-beneficia-de-consultanta-in-domeniul-completarii-unei-cereri-de-finantare-pentru-dezvoltarea-afacerii-tale-te-invitam-sa-apelezi-echipa-de-management-gal-vasile-stroescu-la-numere/
CATEGORIES:Programe Active
END:VEVENT
BEGIN:VEVENT
DTSTART;TZID=Europe/Chisinau:20250203T080000
DTEND;TZID=Europe/Chisinau:20250203T170000
DTSTAMP:20260423T014836
CREATED:20250203T112142Z
LAST-MODIFIED:20250203T112142Z
UID:10000013-1738569600-1738602000@vasilestroescu.md
SUMMARY:Primăria satului Lopatnic a implementat cu succes proiectul „Îmbunătățirea accesului la servicii calitative de dezvoltare timpurie a copilului”\, realizat conform Strategiei de Dezvoltare Locală a Asociației GAL „Vasile Stroescu”.
DESCRIPTION:
URL:https://vasilestroescu.md/program/primaria-satului-lopatnic-a-implementat-cu-succes-proiectul-imbunatatirea-accesului-la-servicii-calitative-de-dezvoltare-timpurie-a-copilului-realizat-conform-strategiei-de-dezvolta/
CATEGORIES:Programe Active
END:VEVENT
BEGIN:VEVENT
DTSTART;TZID=Europe/Chisinau:20250203T080000
DTEND;TZID=Europe/Chisinau:20250203T170000
DTSTAMP:20260423T014836
CREATED:20250203T112521Z
LAST-MODIFIED:20250203T112521Z
UID:10000014-1738569600-1738602000@vasilestroescu.md
SUMMARY:S.R.L. OPTIMAL TIME a implementat cu succes proiectul: ”Dezvoltarea serviciilor de contabilitate în localitățile rurale” Realizat conform Strategiei de Dezvoltare Locală a Asociației GAL „Vasile Stroescu” 2024.
DESCRIPTION:
URL:https://vasilestroescu.md/program/s-r-l-optimal-time-a-implementat-cu-succes-proiectul-dezvoltarea-serviciilor-de-contabilitate-in-localitatile-rurale-realizat-conform-strategiei-de-dezvoltare-locala-a-asociatiei-g/
CATEGORIES:Programe Active
END:VEVENT
BEGIN:VEVENT
DTSTART;TZID=Europe/Chisinau:20250203T080000
DTEND;TZID=Europe/Chisinau:20250203T170000
DTSTAMP:20260423T014836
CREATED:20250203T112955Z
LAST-MODIFIED:20250203T113438Z
UID:10000015-1738569600-1738602000@vasilestroescu.md
SUMMARY:PRIMĂRIA SATULUI GORDINEȘTI a implementat cu succes proiectul:  ’’Extinderea și modernizarea Bibliotecii Publice Gordinești cu rafturi necesare păstrării documentelor și canapele pentru sala de lectură.’’ Realizată conform Strategiei de Dezvoltare Locală a Asociației GAL „Vasile Stroescu”.
DESCRIPTION:
URL:https://vasilestroescu.md/program/primaria-satului-gordinesti-a-implementat-cu-succes-proiectul-extinderea-si-modernizarea-bibliotecii-publice-gordinesti-cu-rafturi-necesare-pastrarii-documentelor-si-canapele-pentr/
CATEGORIES:Programe Active
ATTACH;FMTTYPE=image/jpeg:https://vasilestroescu.md/wp-content/uploads/2025/02/472138565_655729833444966_8771284439476454810_n.jpg
END:VEVENT
BEGIN:VEVENT
DTSTART;TZID=Europe/Chisinau:20250203T080000
DTEND;TZID=Europe/Chisinau:20250203T170000
DTSTAMP:20260423T014836
CREATED:20250203T113226Z
LAST-MODIFIED:20250203T113254Z
UID:10000016-1738569600-1738602000@vasilestroescu.md
SUMMARY:Asociația Obștească „SPICUȘOR” a implementat cu succes proiectul: „Dotarea Centrului Cultural Gordinești cu sistem de sonorizare” \,  realizată conform Strategiei de Dezvoltare Locală a Asociației GAL „Vasile Stroescu”.
DESCRIPTION:
URL:https://vasilestroescu.md/program/asociatia-obsteasca-spicusor-a-implementat-cu-succes-proiectul-dotarea-centrului-cultural-gordinesti-cu-sistem-de-sonorizare-realizata-conform-strategiei-de-dez/
CATEGORIES:Programe Active
ATTACH;FMTTYPE=image/jpeg:https://vasilestroescu.md/wp-content/uploads/2025/02/472035029_655722380112378_6811521899071394328_n.jpg
END:VEVENT
BEGIN:VEVENT
DTSTART;TZID=Europe/Chisinau:20250203T080000
DTEND;TZID=Europe/Chisinau:20250203T170000
DTSTAMP:20260423T014836
CREATED:20250203T113658Z
LAST-MODIFIED:20250203T113658Z
UID:10000017-1738569600-1738602000@vasilestroescu.md
SUMMARY:PRIMĂRIA COMUNEI BLEȘTENI a implementat cu succes proiectul: Modernizarea cantinei de ajutor social\, realizată conform Strategiei de Dezvoltare Locală a Asociației GAL „Vasile Stroescu”
DESCRIPTION:
URL:https://vasilestroescu.md/program/primaria-comunei-blesteni-a-implementat-cu-succes-proiectul-modernizarea-cantinei-de-ajutor-social-realizata-conform-strategiei-de-dezvoltare-locala-a-asociatiei-gal-vasile-stroescu/
CATEGORIES:Programe Active
ATTACH;FMTTYPE=image/jpeg:https://vasilestroescu.md/wp-content/uploads/2025/02/472129114_652946087056674_1327850418144089227_n.jpg
END:VEVENT
BEGIN:VEVENT
DTSTART;TZID=Europe/Chisinau:20250203T080000
DTEND;TZID=Europe/Chisinau:20250203T170000
DTSTAMP:20260423T014836
CREATED:20250203T114048Z
LAST-MODIFIED:20250203T114048Z
UID:10000018-1738569600-1738602000@vasilestroescu.md
SUMMARY:PRIMĂRIA SATULUI BRÎNZENI a implementat cu succes proiectul: „Incursiuni în altarul vredniciei lui Vasile Stroescu: Istorie și Personalitate”\, realizată conform Strategiei de Dezvoltare Locală a Asociației GAL „Vasile Stroescu”.
DESCRIPTION:
URL:https://vasilestroescu.md/program/primaria-satului-brinzeni-a-implementat-cu-succes-proiectul-incursiuni-in-altarul-vredniciei-lui-vasile-stroescu-istorie-si-personalitate-realizata-conform-strategiei-de-dezvoltar/
CATEGORIES:Programe Active
ATTACH;FMTTYPE=image/jpeg:https://vasilestroescu.md/wp-content/uploads/2025/02/472256006_655750366776246_3742799900906044828_n.jpg
END:VEVENT
BEGIN:VEVENT
DTSTART;TZID=Europe/Chisinau:20250203T080000
DTEND;TZID=Europe/Chisinau:20250203T170000
DTSTAMP:20260423T014836
CREATED:20250203T114350Z
LAST-MODIFIED:20250203T114350Z
UID:10000019-1738569600-1738602000@vasilestroescu.md
SUMMARY:Asociația Băștinașilor din Bleșteni-Volodeni a implementat cu succes proiectul: \,\, Amenajarea căii de acces la Grădinița \,\,Scufița Roșie” din satul Volodeni- Bleșteni". Acest proiect a fost realizat în conformitate cu Strategia de Dezvoltare Locală a Asociației GAL „Vasile Stroescu”\, contribuind astfel la îmbunătățirea infrastructurii educaționale din comunitate.
DESCRIPTION:
URL:https://vasilestroescu.md/program/asociatia-bastinasilor-din-blesteni-volodeni-a-implementat-cu-succes-proiectul-amenajarea-caii-de-acces-la-gradinita-scufita-rosie-din-satul-volodeni-blesteni-acest-proiect-a-fost-r/
CATEGORIES:Programe Active
ATTACH;FMTTYPE=image/jpeg:https://vasilestroescu.md/wp-content/uploads/2025/02/471569040_650490740635542_3831507918136449441_n.jpg
END:VEVENT
BEGIN:VEVENT
DTSTART;TZID=Europe/Chisinau:20250203T080000
DTEND;TZID=Europe/Chisinau:20250203T170000
DTSTAMP:20260423T014836
CREATED:20250203T114637Z
LAST-MODIFIED:20250203T114637Z
UID:10000020-1738569600-1738602000@vasilestroescu.md
SUMMARY:PRIMĂRIA SATULUI VIIȘOARA a implementat cu succes proiectul: ”Energie verde durabilă\, convenabilă\, economică și ecologică pentru locuitorii s.Viișoara”!
DESCRIPTION:
URL:https://vasilestroescu.md/program/primaria-satului-viisoara-a-implementat-cu-succes-proiectul-energie-verde-durabila-convenabila-economica-si-ecologica-pentru-locuitorii-s-viisoara/
CATEGORIES:Programe Active
ATTACH;FMTTYPE=image/jpeg:https://vasilestroescu.md/wp-content/uploads/2025/02/474089525_669675415383741_9205344915036746007_n.jpg
END:VEVENT
BEGIN:VEVENT
DTSTART;TZID=Europe/Chisinau:20250203T080000
DTEND;TZID=Europe/Chisinau:20250203T170000
DTSTAMP:20260423T014836
CREATED:20250203T115410Z
LAST-MODIFIED:20250203T115410Z
UID:10000021-1738569600-1738602000@vasilestroescu.md
SUMMARY:Proiect implementat cu succes de S.R.L. TAURUS-PLUS: ”Popas la CASA MARIEI\, realizată conform Strategiei de Dezvoltare Locală a Asociației GAL „Vasile Stroescu”.
DESCRIPTION:
URL:https://vasilestroescu.md/program/proiect-implementat-cu-succes-de-s-r-l-taurus-plus-popas-la-casa-mariei-realizata-conform-strategiei-de-dezvoltare-locala-a-asociatiei-gal-vasile-stroescu/
CATEGORIES:Programe Active
ATTACH;FMTTYPE=image/jpeg:https://vasilestroescu.md/wp-content/uploads/2025/02/471188234_653116667039616_1961529568367895192_n.jpg
END:VEVENT
BEGIN:VEVENT
DTSTART;TZID=Europe/Chisinau:20250203T080000
DTEND;TZID=Europe/Chisinau:20250203T170000
DTSTAMP:20260423T014837
CREATED:20250203T115839Z
LAST-MODIFIED:20250203T115839Z
UID:10000022-1738569600-1738602000@vasilestroescu.md
SUMMARY:A.O. PLAI DIN SATUL VIIȘOARA a implementat cu succes proiectul: „Viișoara – localitate salubră”!
DESCRIPTION:
URL:https://vasilestroescu.md/program/a-o-plai-din-satul-viisoara-a-implementat-cu-succes-proiectul-viisoara-localitate-salubra/
CATEGORIES:Programe Active
ATTACH;FMTTYPE=image/jpeg:https://vasilestroescu.md/wp-content/uploads/2025/02/474898765_669713608713255_1575877187710328781_n-1.jpg
END:VEVENT
BEGIN:VEVENT
DTSTART;TZID=Europe/Chisinau:20250203T080000
DTEND;TZID=Europe/Chisinau:20250203T170000
DTSTAMP:20260423T014837
CREATED:20250203T120220Z
LAST-MODIFIED:20250203T120220Z
UID:10000023-1738569600-1738602000@vasilestroescu.md
SUMMARY:S.R.L. MV AGRO GRUP a implementat cu succes proiectul: „Energia verde – Viitor curat”\, realizată conform Strategiei de Dezvoltare Locală a Asociației GAL „Vasile Stroescu”.
DESCRIPTION:
URL:https://vasilestroescu.md/program/s-r-l-mv-agro-grup-a-implementat-cu-succes-proiectul-energia-verde-viitor-curat-realizata-conform-strategiei-de-dezvoltare-locala-a-asociatiei-gal-vasile-stroes/
CATEGORIES:Programe Active
ATTACH;FMTTYPE=image/jpeg:https://vasilestroescu.md/wp-content/uploads/2025/02/472669834_658836703134279_7827966540261498328_n.jpg
END:VEVENT
BEGIN:VEVENT
DTSTART;TZID=Europe/Chisinau:20250203T080000
DTEND;TZID=Europe/Chisinau:20250203T170000
DTSTAMP:20260423T014837
CREATED:20250203T120743Z
LAST-MODIFIED:20250203T120743Z
UID:10000024-1738569600-1738602000@vasilestroescu.md
SUMMARY:Proiect implementat cu succes de A.O. "LUMEA PITICILOR”: ”Îmbunătățirea  procesului  educațional  prin dotarea  cu  mobilier  a  grupei  mici \,\, Foișor \,\,  din  grădinița   \,\, Romanița \,\, Cuconeștii   Noi.
DESCRIPTION:
URL:https://vasilestroescu.md/program/proiect-implementat-cu-succes-de-a-o-lumea-piticilor-imbunatatirea-procesului-educational-prin-dotarea-cu-mobilier-a-grupei-mici-foisor-din-gradinita-romanit/
CATEGORIES:Programe Active
ATTACH;FMTTYPE=image/jpeg:https://vasilestroescu.md/wp-content/uploads/2025/02/471782761_653001107051172_1066551724611487586_n.jpg
END:VEVENT
BEGIN:VEVENT
DTSTART;TZID=Europe/Chisinau:20250203T080000
DTEND;TZID=Europe/Chisinau:20250203T170000
DTSTAMP:20260423T014837
CREATED:20250203T121225Z
LAST-MODIFIED:20250203T121225Z
UID:10000025-1738569600-1738602000@vasilestroescu.md
SUMMARY:Centrul de Promovare a Turismului LA FETEȘTI S.R.L a implementat cu succes proiectul: \,\,Lumea copiilor” în campingul LA FETEȘTI\, realizată conform Strategiei de Dezvoltare Locală a Asociației GAL „Vasile Stroescu”.
DESCRIPTION:
URL:https://vasilestroescu.md/program/centrul-de-promovare-a-turismului-la-fetesti-s-r-l-a-implementat-cu-succes-proiectul-lumea-copiilor-in-campingul-la-fetesti-realizata-conform-strategiei-de-dezvoltare-locala-a-asociatiei/
CATEGORIES:Programe Active
ATTACH;FMTTYPE=image/jpeg:https://vasilestroescu.md/wp-content/uploads/2025/02/471604504_658832529801363_1680872225012781293_n.jpg
END:VEVENT
BEGIN:VEVENT
DTSTART;TZID=Europe/Chisinau:20250203T080000
DTEND;TZID=Europe/Chisinau:20250203T170000
DTSTAMP:20260423T014837
CREATED:20250203T121633Z
LAST-MODIFIED:20250203T121633Z
UID:10000026-1738569600-1738602000@vasilestroescu.md
SUMMARY:PRIMĂRIA SATULUI HANCĂUȚI a implementat cu succes proiectul: Confort Termic pentru evenimente culturale\, realizată conform Strategiei de Dezvoltare Locală a Asociației GAL „Vasile Stroescu”.
DESCRIPTION:
URL:https://vasilestroescu.md/program/primaria-satului-hancauti-a-implementat-cu-succes-proiectul-confort-termic-pentru-evenimente-culturale-realizata-conform-strategiei-de-dezvoltare-locala-a-asociatiei-gal-vasile-stroescu/
CATEGORIES:Programe Active
ATTACH;FMTTYPE=image/jpeg:https://vasilestroescu.md/wp-content/uploads/2025/02/472129113_655738070110809_8197553208497321319_n.jpg
END:VEVENT
BEGIN:VEVENT
DTSTART;TZID=Europe/Chisinau:20250203T080000
DTEND;TZID=Europe/Chisinau:20250203T170000
DTSTAMP:20260423T014837
CREATED:20250203T122011Z
LAST-MODIFIED:20250203T122011Z
UID:10000027-1738569600-1738602000@vasilestroescu.md
SUMMARY:GȚ ȚÎȚANU-GUȚU MARSELINA din s. Terebna Raionul Edineț a implementat cu succes proiectul:  ”Modernizarea și dotarea cu tehnică agrícola performantă a G.Ț.  realizată conform Strategiei de Dezvoltare Locală a Asociației GAL „Vasile Stroescu”.
DESCRIPTION:
URL:https://vasilestroescu.md/program/gt-titanu-gutu-marselina-din-s-terebna-raionul-edinet-a-implementat-cu-succes-proiectul-modernizarea-si-dotarea-cu-tehnica-agricola-performanta-a-g-t-realizata-conform-strategiei-de-dezv/
ATTACH;FMTTYPE=image/jpeg:https://vasilestroescu.md/wp-content/uploads/2025/02/472527808_655031390181477_824269585698886696_n.jpg
END:VEVENT
BEGIN:VEVENT
DTSTART;TZID=Europe/Chisinau:20250203T080000
DTEND;TZID=Europe/Chisinau:20250203T170000
DTSTAMP:20260423T014837
CREATED:20250203T123614Z
LAST-MODIFIED:20250203T123614Z
UID:10000028-1738569600-1738602000@vasilestroescu.md
SUMMARY:G.Ț SAMSON DINA PETRU din s. Hancăuți a implementat cu succes proiectul: ”Modernizarea tehnicii și echipamentului agricol al GȚ Samson Dina Petru\,  realizată conform Strategiei de Dezvoltare Locală a Asociației GAL „Vasile Stroescu”.
DESCRIPTION:
URL:https://vasilestroescu.md/program/g-t-samson-dina-petru-din-s-hancauti-a-implementat-cu-succes-proiectul-modernizarea-tehnicii-si-echipamentului-agricol-al-gt-samson-dina-petru-realizata-conform-strategiei-de-dezvoltare-l/
CATEGORIES:Programe Active
ATTACH;FMTTYPE=image/jpeg:https://vasilestroescu.md/wp-content/uploads/2025/02/472147040_655019206849362_5822155336776210852_n.jpg
END:VEVENT
BEGIN:VEVENT
DTSTART;TZID=Europe/Chisinau:20250204T080000
DTEND;TZID=Europe/Chisinau:20250204T170000
DTSTAMP:20260423T014837
CREATED:20250204T131053Z
LAST-MODIFIED:20250204T131053Z
UID:10000029-1738656000-1738688400@vasilestroescu.md
SUMMARY:Primăria Satului Tîrnova a implementat cu succes proiectul:  ”Modernizarea infrastructurii localității\, prin renovarea unei porțiuni de trotuar” realizată conform Strategiei de Dezvoltare Locală a Asociației GAL „Vasile Stroescu”.
DESCRIPTION:
URL:https://vasilestroescu.md/program/primaria-satului-tirnova-a-implementat-cu-succes-proiectul-modernizarea-infrastructurii-localitatii-prin-renovarea-unei-portiuni-de-trotuar-realizata-conform-strategiei-de-dezvolt/
CATEGORIES:Programe Active
ATTACH;FMTTYPE=image/jpeg:https://vasilestroescu.md/wp-content/uploads/2025/02/473640235_662807656070517_8025003430673336824_n.jpg
END:VEVENT
BEGIN:VEVENT
DTSTART;TZID=Europe/Chisinau:20250204T080000
DTEND;TZID=Europe/Chisinau:20250204T170000
DTSTAMP:20260423T014837
CREATED:20250204T133931Z
LAST-MODIFIED:20250204T133931Z
UID:10000030-1738656000-1738688400@vasilestroescu.md
SUMMARY:Proiect implementat cu succes de AO TÎRNOVENII DE PRETUTINDENI 🏅                                                                                ”Investim în viitor\, promovând sportul și odihna activă"\, realizat conform Strategiei de Dezvoltare Locală a Asociației GAL „Vasile Stroescu”.
DESCRIPTION:
URL:https://vasilestroescu.md/program/proiect-implementat-cu-succes-de-ao-tirnovenii-de-pretutindeni-%f0%9f%8f%85-investim-in-viitor-promovand-sportu/
CATEGORIES:Programe Active
ATTACH;FMTTYPE=image/jpeg:https://vasilestroescu.md/wp-content/uploads/2025/02/471309527_653105353707414_4580183683321617665_n.jpg
END:VEVENT
BEGIN:VEVENT
DTSTART;TZID=Europe/Chisinau:20250204T080000
DTEND;TZID=Europe/Chisinau:20250204T170000
DTSTAMP:20260423T014837
CREATED:20250204T134227Z
LAST-MODIFIED:20250204T134227Z
UID:10000031-1738656000-1738688400@vasilestroescu.md
SUMMARY:G.Ț. COSTEȚCHI ADRIAN a implementat cu succes proiectul: ”Dotarea Gospodăriei Țărănești \,\,Costețchi Adrian” cu utilaj agricol” Realizat conform Strategiei de Dezvoltare Locală a Asociației GAL „Vasile Stroescu” 2024.
DESCRIPTION:
URL:https://vasilestroescu.md/program/g-t-costetchi-adrian-a-implementat-cu-succes-proiectul-dotarea-gospodariei-taranesti-costetchi-adrian-cu-utilaj-agricol-realizat-conform-strategiei-de-dezvoltare-locala/
CATEGORIES:Programe Active
ATTACH;FMTTYPE=image/jpeg:https://vasilestroescu.md/wp-content/uploads/2025/02/470660039_652955470389069_4125434031063441648_n.jpg
END:VEVENT
END:VCALENDAR