BEGIN:VCALENDAR
VERSION:2.0
PRODID:-//GAL Vasile Stroescu - ECPv6.5.1.6//NONSGML v1.0//EN
CALSCALE:GREGORIAN
METHOD:PUBLISH
X-WR-CALNAME:GAL Vasile Stroescu
X-ORIGINAL-URL:https://vasilestroescu.md
X-WR-CALDESC:Events for GAL Vasile Stroescu
REFRESH-INTERVAL;VALUE=DURATION:PT1H
X-Robots-Tag:noindex
X-PUBLISHED-TTL:PT1H
BEGIN:VTIMEZONE
TZID:Europe/Chisinau
BEGIN:DAYLIGHT
TZOFFSETFROM:+0200
TZOFFSETTO:+0300
TZNAME:EEST
DTSTART:20240331T000000
END:DAYLIGHT
BEGIN:STANDARD
TZOFFSETFROM:+0300
TZOFFSETTO:+0200
TZNAME:EET
DTSTART:20241027T000000
END:STANDARD
BEGIN:DAYLIGHT
TZOFFSETFROM:+0200
TZOFFSETTO:+0300
TZNAME:EEST
DTSTART:20250330T000000
END:DAYLIGHT
BEGIN:STANDARD
TZOFFSETFROM:+0300
TZOFFSETTO:+0200
TZNAME:EET
DTSTART:20251026T000000
END:STANDARD
END:VTIMEZONE
BEGIN:VEVENT
DTSTART;TZID=Europe/Chisinau:20250211T080000
DTEND;TZID=Europe/Chisinau:20250211T170000
DTSTAMP:20260421T172923
CREATED:20250211T120926Z
LAST-MODIFIED:20250211T120926Z
UID:10000041-1739260800-1739293200@vasilestroescu.md
SUMMARY:Asociația GAL \,\,Vasile Stroescu” implementează proiectul \,\,Dezvoltarea sectorului de Plante Aromatice și Medicinale 3.0"\, care are ca scop consolidarea\, susținerea și diversificarea continuă a sectorului de creștere și procesare a plantelor aromatice și medicinale de pe teritoriul GAL-ului\, prin valorificarea resurselor existente în regiune\, susținerea și promovarea IMM-urilor și încurajarea asocierii și cooperării în domeniu.
DESCRIPTION:
URL:https://vasilestroescu.md/program/asociatia-gal-vasile-stroescu-implementeaza-proiectul-dezvoltarea-sectorului-de-plante-aromatice-si-medicinale-3-0-care-are-ca-scop-consolidarea-sustinerea-si-diversificarea-continua/
CATEGORIES:Arhivă programe
ATTACH;FMTTYPE=image/jpeg:https://vasilestroescu.md/wp-content/uploads/2025/02/455959690_555856613432289_6252515908117944275_n.jpg
END:VEVENT
BEGIN:VEVENT
DTSTART;TZID=Europe/Chisinau:20250211T080000
DTEND;TZID=Europe/Chisinau:20250211T170000
DTSTAMP:20260421T172923
CREATED:20250211T114333Z
LAST-MODIFIED:20250211T114333Z
UID:10000040-1739260800-1739293200@vasilestroescu.md
SUMMARY:♻️FORUMUL Antreprenorilor Locali 2024 🤝  EU4Moldova: Local Communities
DESCRIPTION:
URL:https://vasilestroescu.md/program/%e2%99%bb%ef%b8%8fforumul-antreprenorilor-locali-2024-%f0%9f%a4%9d-eu4moldova-local-communities/
CATEGORIES:Arhivă programe
ATTACH;FMTTYPE=image/jpeg:https://vasilestroescu.md/wp-content/uploads/2025/02/464066342_601191092232174_2395813669912535299_n.jpg
END:VEVENT
BEGIN:VEVENT
DTSTART;TZID=Europe/Chisinau:20250211T080000
DTEND;TZID=Europe/Chisinau:20250211T170000
DTSTAMP:20260421T172923
CREATED:20250211T102708Z
LAST-MODIFIED:20250211T102708Z
UID:10000039-1739260800-1739293200@vasilestroescu.md
SUMMARY:Festivalul „Pe Ulița Satului”🏡 🎉Acest weekend a fost dedicat tradițiilor și obiceiurilor de iarnă datorită Festivalului \,\,Pe Ulița Satului”\, organizat la pensiunea turistică La Ursan . Un eveniment minunat\, unde cântecele și voia bună au încins atmosfera din cadrul târgului produsele locale și totodată au adunat oameni frumoși în jurul obiceiului \,\, Tăierea și ospățul porcului ".
DESCRIPTION:
URL:https://vasilestroescu.md/program/festivalul-pe-ulita-satului%f0%9f%8f%a1-%f0%9f%8e%89acest-weekend-a-fost-dedicat-traditiilor-si-obiceiurilor-de-iarna-datorita-festivalului-pe-ulita-satului-organizat-la/
CATEGORIES:Arhivă programe
ATTACH;FMTTYPE=image/jpeg:https://vasilestroescu.md/wp-content/uploads/2025/02/473369855_662102352807714_2006929480530311929_n.jpg
END:VEVENT
BEGIN:VEVENT
DTSTART;TZID=Europe/Chisinau:20250204T080000
DTEND;TZID=Europe/Chisinau:20250204T170000
DTSTAMP:20260421T172923
CREATED:20250204T161402Z
LAST-MODIFIED:20250204T161402Z
UID:10000038-1738656000-1738688400@vasilestroescu.md
SUMMARY:Festival: ”Incursiuni în altarul vredniciei lui Vasile Stroescu: Istorie și Personalitate”
DESCRIPTION:
URL:https://vasilestroescu.md/program/festival-incursiuni-in-altarul-vredniciei-lui-vasile-stroescu-istorie-si-personalitate/
CATEGORIES:Arhivă programe
ATTACH;FMTTYPE=image/jpeg:https://vasilestroescu.md/wp-content/uploads/2025/02/464807417_613199971031286_3404952649249309077_n.jpg
END:VEVENT
BEGIN:VEVENT
DTSTART;TZID=Europe/Chisinau:20250204T080000
DTEND;TZID=Europe/Chisinau:20250204T170000
DTSTAMP:20260421T172923
CREATED:20250204T160714Z
LAST-MODIFIED:20250204T160714Z
UID:10000037-1738656000-1738688400@vasilestroescu.md
SUMMARY:Gal Vasile Stroescu\, continuă să susțină micii producători de Plante Aromatice și Medicinale\, din regiune în cadrul proiectului \,\,Dezvoltarea sectorului de plante aromatice și medicinale 3.0"\, iar recent\,  s-a organizat o instruire\, de 2 zile\, cu grupul de producători și echipa de management GAL\,  în domeniul asocierii producătorilor locali\, elaborarea strategiei și planului de asociere.
DESCRIPTION:
URL:https://vasilestroescu.md/program/gal-vasile-stroescu-continua-sa-sustina-micii-producatori-de-plante-aromatice-si-medicinale-din-regiune-in-cadrul-proiectului-dezvoltarea-sectorului-de-plante-aromatice-si-medicinale-3-0-iar-re/
CATEGORIES:Arhivă programe
ATTACH;FMTTYPE=image/jpeg:https://vasilestroescu.md/wp-content/uploads/2025/02/467354395_622851146732835_7333409499732655383_n.jpg
END:VEVENT
BEGIN:VEVENT
DTSTART;TZID=Europe/Chisinau:20250204T080000
DTEND;TZID=Europe/Chisinau:20250204T170000
DTSTAMP:20260421T172923
CREATED:20250204T160222Z
LAST-MODIFIED:20250204T160222Z
UID:10000036-1738656000-1738688400@vasilestroescu.md
SUMMARY:Pe 10 decembrie\, la Chișinău\, membrii grupurilor de lucru participative din raioanele Edineț\, Strășeni\, Leova și din municipiile Soroca și Comrat s-au întâlnit pentru a împărtăși experiențele și lecțiile învățate în dezvoltarea comunităților locale. Participanții au discutat despre dezvoltarea economică și importanța incluziunii diverselor grupuri\, cum ar fi femeile și minoritățile\, susținerea afacerilor mici de familie\, afacerilor conduse de femei din mediul rural !
DESCRIPTION:
URL:https://vasilestroescu.md/program/pe-10-decembrie-la-chisinau-membrii-grupurilor-de-lucru-participative-din-raioanele-edinet-straseni-leova-si-din-municipiile-soroca-si-comrat-s-au-intalnit-pentru-a-impartasi-experientele-si-lecti/
CATEGORIES:Arhivă programe
ATTACH;FMTTYPE=image/jpeg:https://vasilestroescu.md/wp-content/uploads/2025/02/470129541_639584288392854_5532218703098104128_n.jpg
END:VEVENT
BEGIN:VEVENT
DTSTART;TZID=Europe/Chisinau:20250204T080000
DTEND;TZID=Europe/Chisinau:20250204T170000
DTSTAMP:20260421T172923
CREATED:20250204T155329Z
LAST-MODIFIED:20250204T155329Z
UID:10000035-1738656000-1738688400@vasilestroescu.md
SUMMARY:În luna decembrie\, grupul de producători de Plante Aromatice și Medicinale din regiunea Gal Vasile Stroescu \, sunt în continuare implicați în activitățile din cadrul proiectului \,\,Dezvoltarea sectorului de plante aromatice și medicinale 3.0"\, iar recent\,  s-a organizat o instruire\, de 1 zi cu grupul de producători\, coordonatoarea de proiect\, doamna Victoria Gonța și echipa de management GAL\,  din seria de instruiri în domeniul tehnologiilor procesării și valorificarea lanțului valoric din sectorul PAM alături de doamna Valentina Babii. Totodată s-a discutat despre activitățile de avansare în procesul de asociere a producătorilor\, elaborarea strategiei\, planului de asociere dar și identificarea sediului Centrului de producere PAM din regiunea GAL \,\, Vasile Stroescu " 🍀
DESCRIPTION:
URL:https://vasilestroescu.md/program/in-luna-decembrie-grupul-de-producatori-de-plante-aromatice-si-medicinale-din-regiunea-gal-vasile-stroescu-sunt-in-continuare-implicati-in-activitatile-din-cadrul-proiectului-dezvoltarea-sectorul/
CATEGORIES:Arhivă programe
ATTACH;FMTTYPE=image/jpeg:https://vasilestroescu.md/wp-content/uploads/2025/02/471855101_651080223909927_7435746226482786803_n.jpg
END:VEVENT
BEGIN:VEVENT
DTSTART;TZID=Europe/Chisinau:20240319T080000
DTEND;TZID=Europe/Chisinau:20240319T170000
DTSTAMP:20260421T172923
CREATED:20240319T075641Z
LAST-MODIFIED:20240725T131144Z
UID:10000004-1710835200-1710867600@vasilestroescu.md
SUMMARY:GT Scerbatiuc Viorel\, din satul Trinca a beneficiat de un grant în valoare de 24 000 lei\, pentru înfiinţarea unei plantații de levănțică. Contribuţia proprie : 20 000 lei
DESCRIPTION:
URL:https://vasilestroescu.md/program/gt-scerbatiuc-viorel-din-satul-trinca-a-beneficiat-de-un-grant-in-valoare-de-24-000-lei-pentru-infiintarea-unei-plantatii-de-levantica-contributia-proprie-20-000-lei/
CATEGORIES:Arhivă programe
ATTACH;FMTTYPE=image/jpeg:https://vasilestroescu.md/wp-content/uploads/2024/03/levanttica.jpg
END:VEVENT
BEGIN:VEVENT
DTSTART;VALUE=DATE:20240319
DTEND;VALUE=DATE:20240320
DTSTAMP:20260421T172923
CREATED:20240319T074328Z
LAST-MODIFIED:20240725T131246Z
UID:10000002-1710806400-1710892799@vasilestroescu.md
SUMMARY:SRL\,\,Miros de lavandă " a beneficiat de un grant în valoare de 6500 euro pentru procurarea utilajului de recoltare a levănțicăi ! Contribuţia proprie : 7500 euro
DESCRIPTION:
URL:https://vasilestroescu.md/program/srlmiros-de-lavanda-a-beneficiat-de-un-grant-in-valoare-de-6500-euro-pentru-procurarea-utilajului-de-recoltare-a-levanticai-contributia-proprie-7500-euro/
CATEGORIES:Arhivă programe
ATTACH;FMTTYPE=image/jpeg:https://vasilestroescu.md/wp-content/uploads/2024/03/miros-de-lavanda.jpg
END:VEVENT
END:VCALENDAR